BEGIN:VCALENDAR
VERSION:2.0
PRODID:-//hacksw/handcal//NONSGML v1.0//EN
BEGIN:VEVENT
SUMMARY:Apero cours du vendredi
UID:718b6e98-4f0a-44a4-874f-6a56d664fbb6
DTSTART:20260402T220000Z
DTEND:20260403T220000Z
LOCATION:Localisation   
CATEGORIES:Sportif
STATUS:
DESCRIPTION:<p>Bonjour,</p>
 
 <p>Apres l'entrainement de judo ce
 vendredi 3 avril, nous vous invitons a partager un moment
 convivial.</p>
 
 <p>Chacun est libre d’apporter un plat sale ou
 sucre, le club se charge des boissons.</p>
 
 <p>Nous esperons vous
 voir nombreux pour partager ce moment ensemble.</p>
 
 <p>L'equipe
 JCPF</p>
URL;VALUE=URI:https://www.judoplaineduforez.com/evenements/2026/04/03/apero-cours-du-vendredi-2436802
END:VEVENT
END:VCALENDAR
