BEGIN:VCALENDAR
VERSION:2.0
PRODID:-//hacksw/handcal//NONSGML v1.0//EN
BEGIN:VEVENT
SUMMARY:Entrainement JJB
UID:0c7936ed-0e2b-431b-8d24-3df890aa0cd5
DTSTART:20260407T170000Z
DTEND:20260407T183000Z
LOCATION:Localisation   
CATEGORIES:Entrainement
STATUS:
DESCRIPTION:<p>Salut a tous, programme des vacances:</p>
 
 <p>les
 mardis entrainement a l’Etrat avec Diogo<br>
 19h20h30 <br>
 Espace
 Roger Riviere 42580 l’Etrat</p>
 
 <p><br>
 Les Jeudis entrainement
 19h00 20h30 a Andrezieux</p>
 
 <p><br>
  </p>
URL;VALUE=URI:https://www.judoplaineduforez.com/evenements/2026/04/07/entrainement-jjb-2438944
END:VEVENT
END:VCALENDAR
