BEGIN:VCALENDAR
VERSION:2.0
PRODID:-//hacksw/handcal//NONSGML v1.0//EN
BEGIN:VEVENT
SUMMARY:Stage enfants  a la journee nees 2019 2018 2017 2016 2015 2014
UID:4d8968e2-d3de-4e14-90f9-e74c4eab8d3d
DTSTART:20260409T070000Z
DTEND:20260410T150000Z
LOCATION:DOJO ANDREZIEUX BOUTHEON 4 rue Colette 42160 Andrezieux-Boutheon
CATEGORIES:Sportif
STATUS:
DESCRIPTION:<p> </p>
 
 <p> </p>
 
 <p>Stage 9 et 10 avril au dojo
 d'Andrezieux-Boutheon  pour les enfants nes en <a
 href="tel:2019201820172016">2019 2018 2017 2016</a>
 2015.2014 <br>
 <br>
 Merci de remplir le formulaire ci dessous pour
 inscrire votre enfant et nous permettre d'organiser ces journees de
 stage.</p>
 
 <p><u><strong><a
 href="https://forms.gle/yMjs5ZUUL29D8Vcz5" target="_blank"
 rel="noreferrer noopener">FORMULAIRE
 D'INSCRIPTION</a></strong></u></p>
 
 <p><br>
 Accueil  a partir de
 8h45 au dojo d'Andrezieux-Boutheon, fin du stage a
 17h00.<br>
 <br>
 Programme: Judo (Educatifs, travail technique,
 preparation au passage de grade, combats)<br>
 Jeux, sports
 collectifs, sequences videos.<br>
 <br>
 Equipement : Judogi,
 Claquettes ou chaussons pour circuler autour du tapis, Tenue de sport
 adaptee a la meteo et chaussures de sport.</p>
 
 <p><br>
 Repas de midi
 tire du sac, bouteille d’eau.</p>
 
 <p>Le club fournit le gouter aux
 participants<br>
 <br>
 Limite aux 60 premiers
 inscrits  <br>
 <strong>Prix : 15 euros la
 journee </strong><br>
 <br>
 Encadrement : Jean Luc Axelle  et jeunes
 judokas du club</p>
URL;VALUE=URI:https://www.judoplaineduforez.com/evenements/2026/04/09/stage-enfants-a-la-journee-nees-2019-2018-2017-2016-2015-2014-2018507
END:VEVENT
END:VCALENDAR
