BEGIN:VCALENDAR
VERSION:2.0
PRODID:-//hacksw/handcal//NONSGML v1.0//EN
BEGIN:VEVENT
SUMMARY:Tournoi Yzeures Benjamins Minimes
UID:7e037b61-5484-443e-8dc9-34cf5f985d5d
DTSTART:20260411T220000Z
DTEND:20260412T220000Z
LOCATION:Localisation   
CATEGORIES:Sportif
STATUS:
DESCRIPTION:<p>GYMNASE DE BELLEVUE<br>
 26 RUE JEAN VIDAL<br>
 3400
 YZEURE</p>
 
 <p> </p>
 
 <p>- Benjamines : pesee 8h30 - 9h00; debut
 combats : 9h30</p>
 
 <p>- Benjamins pesee 10h00-10h30; debut combats :
 11h00</p>
 
 <p>- Minimes G : 12h15-12h45; debut combats :
 13h15</p>
 
 <p>- Minimes F : 14h00-14h30; debut combats :
 15h00</p>
 
 <p>La pesee des filles etant tot, le club propose un
 depart la veille. </p>
URL;VALUE=URI:https://www.judoplaineduforez.com/evenements/2026/04/12/tournoi-yzeures-benjamins-minimes-2435722
END:VEVENT
END:VCALENDAR
